BEGIN:VCALENDAR
VERSION:2.0
PRODID:-//Dowling Gardens - ECPv5.1.5//NONSGML v1.0//EN
CALSCALE:GREGORIAN
METHOD:PUBLISH
X-WR-CALNAME:Dowling Gardens
X-ORIGINAL-URL:https://dowlinggardens.org
X-WR-CALDESC:Events for Dowling Gardens
BEGIN:VTIMEZONE
TZID:America/New_York
BEGIN:DAYLIGHT
TZOFFSETFROM:-0500
TZOFFSETTO:-0400
TZNAME:EDT
DTSTART:20190310T070000
END:DAYLIGHT
BEGIN:STANDARD
TZOFFSETFROM:-0400
TZOFFSETTO:-0500
TZNAME:EST
DTSTART:20191103T060000
END:STANDARD
END:VTIMEZONE
BEGIN:VEVENT
DTSTART;TZID=America/New_York:20191011T123000
DTEND;TZID=America/New_York:20191011T133000
DTSTAMP:20260422T215518
CREATED:20191007T162935Z
LAST-MODIFIED:20191007T162935Z
UID:1424-1570797000-1570800600@dowlinggardens.org
SUMMARY:Computer Help with Walter (2nd Floor)
DESCRIPTION:
URL:https://dowlinggardens.org/event/computer-help-with-walter-2nd-floor/
LOCATION:Dowling Gardens – Outside Weather Permitting\, 190 Kings Highway\, Sparkill\, NY\, 10976\, United States
ORGANIZER;CN="Dowling%20Gardens":MAILTO:info@DowlingGardens.org
END:VEVENT
END:VCALENDAR